BEGIN:VCALENDAR
VERSION:2.0
PRODID:-//Ljekarne Grbavac - ECPv6.15.16//NONSGML v1.0//EN
CALSCALE:GREGORIAN
METHOD:PUBLISH
X-ORIGINAL-URL:https://ljekarnegrbavac.hr
X-WR-CALDESC:Events for Ljekarne Grbavac
REFRESH-INTERVAL;VALUE=DURATION:PT1H
X-Robots-Tag:noindex
X-PUBLISHED-TTL:PT1H
BEGIN:VTIMEZONE
TZID:Europe/London
BEGIN:DAYLIGHT
TZOFFSETFROM:+0000
TZOFFSETTO:+0100
TZNAME:BST
DTSTART:20250330T010000
END:DAYLIGHT
BEGIN:STANDARD
TZOFFSETFROM:+0100
TZOFFSETTO:+0000
TZNAME:GMT
DTSTART:20251026T010000
END:STANDARD
BEGIN:DAYLIGHT
TZOFFSETFROM:+0000
TZOFFSETTO:+0100
TZNAME:BST
DTSTART:20260329T010000
END:DAYLIGHT
BEGIN:STANDARD
TZOFFSETFROM:+0100
TZOFFSETTO:+0000
TZNAME:GMT
DTSTART:20261025T010000
END:STANDARD
BEGIN:DAYLIGHT
TZOFFSETFROM:+0000
TZOFFSETTO:+0100
TZNAME:BST
DTSTART:20270328T010000
END:DAYLIGHT
BEGIN:STANDARD
TZOFFSETFROM:+0100
TZOFFSETTO:+0000
TZNAME:GMT
DTSTART:20271031T010000
END:STANDARD
END:VTIMEZONE
BEGIN:VEVENT
DTSTART;TZID=Europe/London:20260415T090000
DTEND;TZID=Europe/London:20260415T140000
DTSTAMP:20260419T180410
CREATED:20260328T122437Z
LAST-MODIFIED:20260328T122437Z
UID:1592-1776243600-1776261600@ljekarnegrbavac.hr
SUMMARY:NUXE kozmetika promocija i stručno savjetovanje
DESCRIPTION:Pozivamo Vas na ekskluzivnu promociju NUXE kozmetike! \nPridružite nam se i otkrijte svijet prirodne ljepote\, luksuzne njege i prepoznatljivih mirisa koji dolaze iz srca Francuske. Na promociji ćete imati priliku upoznati se s najpopularnijim NUXE proizvodima\, isprobati teksture i dobiti stručne savjete za njegu kože prilagođene upravo Vama. \n 
URL:https://ljekarnegrbavac.hr/event/nuxe-kozmetika-promocija-i-strucno-savjetovanje-2/
END:VEVENT
END:VCALENDAR