BEGIN:VCALENDAR
VERSION:2.0
PRODID:-//Ljekarne Grbavac - ECPv6.15.16//NONSGML v1.0//EN
CALSCALE:GREGORIAN
METHOD:PUBLISH
X-WR-CALNAME:Ljekarne Grbavac
X-ORIGINAL-URL:https://ljekarnegrbavac.hr
X-WR-CALDESC:Events for Ljekarne Grbavac
REFRESH-INTERVAL;VALUE=DURATION:PT1H
X-Robots-Tag:noindex
X-PUBLISHED-TTL:PT1H
BEGIN:VTIMEZONE
TZID:Europe/London
BEGIN:DAYLIGHT
TZOFFSETFROM:+0000
TZOFFSETTO:+0100
TZNAME:BST
DTSTART:20250330T010000
END:DAYLIGHT
BEGIN:STANDARD
TZOFFSETFROM:+0100
TZOFFSETTO:+0000
TZNAME:GMT
DTSTART:20251026T010000
END:STANDARD
BEGIN:DAYLIGHT
TZOFFSETFROM:+0000
TZOFFSETTO:+0100
TZNAME:BST
DTSTART:20260329T010000
END:DAYLIGHT
BEGIN:STANDARD
TZOFFSETFROM:+0100
TZOFFSETTO:+0000
TZNAME:GMT
DTSTART:20261025T010000
END:STANDARD
BEGIN:DAYLIGHT
TZOFFSETFROM:+0000
TZOFFSETTO:+0100
TZNAME:BST
DTSTART:20270328T010000
END:DAYLIGHT
BEGIN:STANDARD
TZOFFSETFROM:+0100
TZOFFSETTO:+0000
TZNAME:GMT
DTSTART:20271031T010000
END:STANDARD
END:VTIMEZONE
BEGIN:VEVENT
DTSTART;TZID=Europe/London:20260413T090000
DTEND;TZID=Europe/London:20260413T140000
DTSTAMP:20260419T180034
CREATED:20260328T122540Z
LAST-MODIFIED:20260328T122608Z
UID:1594-1776070800-1776088800@ljekarnegrbavac.hr
SUMMARY:ISDIN kozmetika promocija i stručno savjetovanje
DESCRIPTION:Pozivamo Vas na ekskluzivnu promociju ISDIN dermokozmetike! \nOtkrijte inovativna rješenja za njegu kože uz jedan od vodećih dermatoloških brendova. Tijekom promocije imat ćete priliku upoznati se s najpopularnijim ISDIN proizvodima\, isprobati njihove jedinstvene teksture te dobiti stručne savjete za pravilnu njegu kože i zaštitu od sunca. \n 
URL:https://ljekarnegrbavac.hr/event/isdin-kozmetika-promocija-i-strucno-savjetovanje/
END:VEVENT
END:VCALENDAR