BEGIN:VCALENDAR
VERSION:2.0
PRODID:-//Ljekarne Grbavac - ECPv6.15.16//NONSGML v1.0//EN
CALSCALE:GREGORIAN
METHOD:PUBLISH
X-ORIGINAL-URL:https://ljekarnegrbavac.hr
X-WR-CALDESC:Events for Ljekarne Grbavac
REFRESH-INTERVAL;VALUE=DURATION:PT1H
X-Robots-Tag:noindex
X-PUBLISHED-TTL:PT1H
BEGIN:VTIMEZONE
TZID:Europe/London
BEGIN:DAYLIGHT
TZOFFSETFROM:+0000
TZOFFSETTO:+0100
TZNAME:BST
DTSTART:20250330T010000
END:DAYLIGHT
BEGIN:STANDARD
TZOFFSETFROM:+0100
TZOFFSETTO:+0000
TZNAME:GMT
DTSTART:20251026T010000
END:STANDARD
BEGIN:DAYLIGHT
TZOFFSETFROM:+0000
TZOFFSETTO:+0100
TZNAME:BST
DTSTART:20260329T010000
END:DAYLIGHT
BEGIN:STANDARD
TZOFFSETFROM:+0100
TZOFFSETTO:+0000
TZNAME:GMT
DTSTART:20261025T010000
END:STANDARD
BEGIN:DAYLIGHT
TZOFFSETFROM:+0000
TZOFFSETTO:+0100
TZNAME:BST
DTSTART:20270328T010000
END:DAYLIGHT
BEGIN:STANDARD
TZOFFSETFROM:+0100
TZOFFSETTO:+0000
TZNAME:GMT
DTSTART:20271031T010000
END:STANDARD
END:VTIMEZONE
BEGIN:VEVENT
DTSTART;TZID=Europe/London:20260326T090000
DTEND;TZID=Europe/London:20260326T130000
DTSTAMP:20260420T052848
CREATED:20260317T085844Z
LAST-MODIFIED:20260317T085844Z
UID:1577-1774515600-1774530000@ljekarnegrbavac.hr
SUMMARY:URIAGE\,SVR\, FILORGA promocija kozmetike
DESCRIPTION:Pozivamo vas na promociju URIAGE\, SVR I FILORGA kozmetike gdje ćete imati priliku upoznati proizvode\, isprobati teksture i dobiti stručne savjete o njezi kože i ostvariti pravo na besplatan pregled kože s kamerom. 
URL:https://ljekarnegrbavac.hr/event/uriagesvr-filorga-promocija-kozmetike/
END:VEVENT
END:VCALENDAR